BEGIN:VCALENDAR
VERSION:2.0
PRODID:-//Madison Golf & Country Club - ECPv6.15.18//NONSGML v1.0//EN
CALSCALE:GREGORIAN
METHOD:PUBLISH
X-WR-CALNAME:Madison Golf & Country Club
X-ORIGINAL-URL:https://www.madisongolfsd.com
X-WR-CALDESC:Events for Madison Golf & Country Club
REFRESH-INTERVAL;VALUE=DURATION:PT1H
X-Robots-Tag:noindex
X-PUBLISHED-TTL:PT1H
BEGIN:VTIMEZONE
TZID:UTC
BEGIN:STANDARD
TZOFFSETFROM:+0000
TZOFFSETTO:+0000
TZNAME:UTC
DTSTART:20250101T000000
END:STANDARD
END:VTIMEZONE
BEGIN:VEVENT
DTSTART;TZID=UTC:20260421T160000
DTEND;TZID=UTC:20260421T190000
DTSTAMP:20260421T155353
CREATED:20260227T231017Z
LAST-MODIFIED:20260227T231415Z
UID:10000224-1776787200-1776798000@www.madisongolfsd.com
SUMMARY:MHS Girls -- 9 Hole Meet
DESCRIPTION:The front 9 holes will be used for the meet with the back 9 open for play beginning at 4:00pm.
URL:https://www.madisongolfsd.com/event/mhs-girls-9-hole-meet/
END:VEVENT
END:VCALENDAR